BEGIN:VCALENDAR
VERSION:2.0
PRODID:-//Colington Harbour Yacht &amp; Racquet Club - ECPv5.10.0//NONSGML v1.0//EN
CALSCALE:GREGORIAN
METHOD:PUBLISH
X-WR-CALNAME:Colington Harbour Yacht &amp; Racquet Club
X-ORIGINAL-URL:https://www.chyrc.org/wordpress
X-WR-CALDESC:Events for Colington Harbour Yacht &amp; Racquet Club
BEGIN:VTIMEZONE
TZID:America/New_York
BEGIN:DAYLIGHT
TZOFFSETFROM:-0500
TZOFFSETTO:-0400
TZNAME:EDT
DTSTART:20260308T070000
END:DAYLIGHT
BEGIN:STANDARD
TZOFFSETFROM:-0400
TZOFFSETTO:-0500
TZNAME:EST
DTSTART:20261101T060000
END:STANDARD
END:VTIMEZONE
BEGIN:VEVENT
DTSTART;TZID=America/New_York:20260305T190000
DTEND;TZID=America/New_York:20260305T200000
DTSTAMP:20260422T090635
CREATED:20251217T224339Z
LAST-MODIFIED:20251217T224339Z
UID:2310-1772737200-1772740800@www.chyrc.org
SUMMARY:CHYRC Board Meeting
DESCRIPTION:Board meeting\, as needed. Clubhouse at 7 pm.
URL:https://www.chyrc.org/wordpress/event/chyrc-board-meeting-5/
END:VEVENT
BEGIN:VEVENT
DTSTART;TZID=America/New_York:20260307T180000
DTEND;TZID=America/New_York:20260307T200000
DTSTAMP:20260422T090635
CREATED:20260109T132304Z
LAST-MODIFIED:20260306T004337Z
UID:2330-1772906400-1772913600@www.chyrc.org
SUMMARY:CANCELLED - Social Hour - Saturday\, 3/7/26
DESCRIPTION:
URL:https://www.chyrc.org/wordpress/event/social-hour-3-7-26-saturday/
END:VEVENT
BEGIN:VEVENT
DTSTART;TZID=America/New_York:20260328T180000
DTEND;TZID=America/New_York:20260328T200000
DTSTAMP:20260422T090635
CREATED:20250909T184806Z
LAST-MODIFIED:20260306T004609Z
UID:2231-1774720800-1774728000@www.chyrc.org
SUMMARY:Social Hour - Saturday\, 3/28/26
DESCRIPTION:6:00 – 8:00 PM at the Clubhouse.  Please bring a dish to share and bring your own beverage. \nThis event is open to members and their guests only
URL:https://www.chyrc.org/wordpress/event/social-hour-saturday-9-13-25/
END:VEVENT
END:VCALENDAR